BEGIN:VCALENDAR
VERSION:2.0
PRODID:-//Western Slope Empowerment - ECPv6.15.20//NONSGML v1.0//EN
CALSCALE:GREGORIAN
METHOD:PUBLISH
X-WR-CALNAME:Western Slope Empowerment
X-ORIGINAL-URL:https://wsempowerment.com
X-WR-CALDESC:Events for Western Slope Empowerment
REFRESH-INTERVAL;VALUE=DURATION:PT1H
X-Robots-Tag:noindex
X-PUBLISHED-TTL:PT1H
BEGIN:VTIMEZONE
TZID:UTC
BEGIN:STANDARD
TZOFFSETFROM:+0000
TZOFFSETTO:+0000
TZNAME:UTC
DTSTART:20220101T000000
END:STANDARD
END:VTIMEZONE
BEGIN:VEVENT
DTSTART;VALUE=DATE:20230619
DTEND;VALUE=DATE:20230620
DTSTAMP:20260423T142108
CREATED:20230611T231207Z
LAST-MODIFIED:20230611T232207Z
UID:206-1687132800-1687219199@wsempowerment.com
SUMMARY:Juneteenth
DESCRIPTION:
URL:https://wsempowerment.com/event/juneteenth/
CATEGORIES:Holiday
ATTACH;FMTTYPE=image/jpeg:https://wsempowerment.com/wp-content/uploads/2023/06/derek-lamar-nHR8J77KiqU-unsplash-1.jpg
END:VEVENT
END:VCALENDAR